BEGIN:VCALENDAR
VERSION:2.0
PRODID:-//Healing Out Loud - ECPv6.15.20//NONSGML v1.0//EN
CALSCALE:GREGORIAN
METHOD:PUBLISH
X-WR-CALNAME:Healing Out Loud
X-ORIGINAL-URL:https://healingoutloud.co.bw
X-WR-CALDESC:Events for Healing Out Loud
REFRESH-INTERVAL;VALUE=DURATION:PT1H
X-Robots-Tag:noindex
X-PUBLISHED-TTL:PT1H
BEGIN:VTIMEZONE
TZID:Africa/Johannesburg
BEGIN:STANDARD
TZOFFSETFROM:+0200
TZOFFSETTO:+0200
TZNAME:SAST
DTSTART:20240101T000000
END:STANDARD
END:VTIMEZONE
BEGIN:VEVENT
DTSTART;TZID=Africa/Johannesburg:20251018T080000
DTEND;TZID=Africa/Johannesburg:20251018T170000
DTSTAMP:20260421T190702
CREATED:20251224T165543Z
LAST-MODIFIED:20251224T170711Z
UID:374-1760774400-1760806800@healingoutloud.co.bw
SUMMARY:Understanding Narcissistic abuse
DESCRIPTION:Understanding Narcissistic Abuse explores the emotional\, psychological\, and spiritual impact of relationships with narcissists. It sheds light on manipulative patterns such as gaslighting\, control\, and emotional exploitation\, while guiding survivors toward awareness\, healing\, and reclaiming their sense of self.
URL:https://healingoutloud.co.bw/event/understanding-narcissistic-abuse/
LOCATION:N/A (Not Applicable)\, Gaborone\, Botswana
CATEGORIES:Seminars,Workshops
ATTACH;FMTTYPE=image/webp:https://healingoutloud.co.bw/wp-content/uploads/2025/12/About-healing-out-loud.webp
END:VEVENT
END:VCALENDAR